BEGIN:VCALENDAR
VERSION:2.0
PRODID:-//TZB portál - ECPv6.10.2//NONSGML v1.0//EN
CALSCALE:GREGORIAN
METHOD:PUBLISH
X-ORIGINAL-URL:https://tzbportal.sk
X-WR-CALDESC:Udalosti pre TZB portál
REFRESH-INTERVAL;VALUE=DURATION:PT1H
X-Robots-Tag:noindex
X-PUBLISHED-TTL:PT1H
BEGIN:VTIMEZONE
TZID:Europe/Bratislava
BEGIN:DAYLIGHT
TZOFFSETFROM:+0100
TZOFFSETTO:+0200
TZNAME:CEST
DTSTART:20260329T010000
END:DAYLIGHT
BEGIN:STANDARD
TZOFFSETFROM:+0200
TZOFFSETTO:+0100
TZNAME:CET
DTSTART:20261025T010000
END:STANDARD
BEGIN:DAYLIGHT
TZOFFSETFROM:+0100
TZOFFSETTO:+0200
TZNAME:CEST
DTSTART:20270328T010000
END:DAYLIGHT
BEGIN:STANDARD
TZOFFSETFROM:+0200
TZOFFSETTO:+0100
TZNAME:CET
DTSTART:20271031T010000
END:STANDARD
END:VTIMEZONE
BEGIN:VEVENT
DTSTART;VALUE=DATE:20260430
DTEND;VALUE=DATE:20270326
DTSTAMP:20260425T181634
CREATED:20260112T120028Z
LAST-MODIFIED:20260410T111132Z
UID:35214-1777507200-1806019199@tzbportal.sk
SUMMARY:Školenia protipožiarnych systémov
DESCRIPTION:Spoločnosť Hilti Slovakia\, spol. s r.o. predstavuje pre rok 2026 školenia protipožiarnych systémov. \nTieto školenia sú vhodné pre účastníkov\, ktorí nemajú žiadne alebo minimálne skúsenosti s požiarnymi tesneniami. V druhej polovici školenia budú účastníci fyzicky realizovať tesnenia konkrétnych prestupov na skúšobných stenách. Vyskúšajú si tak prácu s Hilti požiarnymi materiálmi a naučia sa ako správne postupovať. \nPrečo je dôležité správne riešiť protipožiarnu ochranu budov? \n\nŠkolenie požiarnej ochrany je nutnosť v prípade\, že potrebujete realizovať alebo kontrolovať správne vyhotovenie protipožiarnych tesnení. Vyberte si spôsob školenia\, ktorý je pre vás najvhodnejší. Na školení sa dozviete aktuálne informácie z legislatívy\, ako vyhotovovať tesnenia prestupov a čo je potrebné odovzdávať ku kolaudácii. Všetky typy školenia majú platnosť 2 roky. V prípade\, že do kontaktu s týmto školením prichádzate prvý krát\, odporúčame voľbu školenia s praktickou časťou. \n\nViac info (miesta a termíny školení) a prihlásenie sa nájdete na: Školenie protipožiarnych systémov – Hilti Slovakia
URL:https://tzbportal.sk/akcia/skolenia-protipoziarnych-systemov/
ATTACH;FMTTYPE=image/png:https://tzbportal.sk/wp-content/uploads/2026/01/Screenshot-2026-01-12-at-12-49-56-Skolenie-protipoziarnych-systemov-Hilti-Slovakia.png
END:VEVENT
BEGIN:VEVENT
DTSTART;VALUE=DATE:20260505
DTEND;VALUE=DATE:20260507
DTSTAMP:20260425T181634
CREATED:20260424T082106Z
LAST-MODIFIED:20260424T082106Z
UID:36039-1777939200-1778111999@tzbportal.sk
SUMMARY:Obnoviteľné zdroje energie 2026
DESCRIPTION:Slovenská spoločnosť pre techniku prostredia Vás pozýva na 24. konferenciu Obnoviteľné zdroje energie\, tentokrát na tému „Hovoríme už o pokroku alebo ešte o stagnácii?“.\nKonferencia sa uskutoční v termíne 5. – 6. máj 2026 v hoteli Atrium***\, Nový Smokovec. Máme pripravených 5 mono-tematických sekcií\, zameraných na jednotlivé druhy OZE (podmienky pre OZE\, geotermálna energia\, solárna energia\, tepelné čerpadlá a biomasa a biopalivá)\, ale aj ich praktické využitie pre aplikácie v nízkoteplotných systémoch zásobovania teplom. \nVeríme\, že týmto oslovíme architektov\, projektantov\, výrobcov zariadení a technológií\, ale aj energetikov\, ochranárov\, prevádzkovateľov\, v neposlednom rade audítorov\, odborne spôsobilé osoby pre energetickú certifikáciu\, ako i zástupcov štátnej správy\, vedy\, výskumu a školstva. \nPrihlásiť sa môžete vyplnením záväznej prihlášky najneskôr do 30.4.2026 – a jej zaslaním na e-mail: konferencie@sstp.sk
URL:https://tzbportal.sk/akcia/obnovitelne-zdroje-energie-2026/
LOCATION:Hotel ATRIUM***\, Nový Smokovec
ATTACH;FMTTYPE=image/png:https://tzbportal.sk/wp-content/uploads/2026/04/weboze-2026.png
END:VEVENT
BEGIN:VEVENT
DTSTART;VALUE=DATE:20260601
DTEND;VALUE=DATE:20260604
DTSTAMP:20260425T181634
CREATED:20260319T092245Z
LAST-MODIFIED:20260319T092245Z
UID:35679-1780272000-1780531199@tzbportal.sk
SUMMARY:Nekonvenční zdroje elektrické energie 2026
DESCRIPTION:Dovolujeme si Vás pozvat na 47. ročník vědecko-technické konference NZEE – Nekonvenční zdroje elektrické energie. Konferenci pořádá odborná skupina Chemické zdroje elektrické energie České elektrotechnické společnosti\, z. s.\, ve spolupráci s Ústavem elektrotechnologie Fakulty elektrotechniky a komunikačních technologií Vysokého učení technického v Brně. \nKonference NZEE dlouhodobě představuje odborné fórum pro prezentaci aktuálních výsledků výzkumu\, technologického vývoje a praktických aplikací v oblasti elektrotechniky\, energetiky a systémů pro ukládání elektrické energie. Vytváří prostor pro setkání akademických pracovníků\, výzkumných organizací\, průmyslových partnerů i dalších odborníků působících v oblasti energetických technologií. Současně podporuje výměnu zkušeností mezi akademickou sférou a průmyslem a přispívá k navazování nových odborných a výzkumných spoluprací. \n47. ročník konference se uskuteční v nové krásné lokalitě Wellness & Spa RESORT VALACHY – Velké Karlovice (pohoří Javorníky)\, v termínu 1.–3. června 2026 \nTematické zaměření konference reflektuje současný vývoj v oblasti obnovitelných zdrojů energie a bezemisních energetických technologií. Diskuse budou zaměřeny mimo jiné na otázky snižování emisí skleníkových plynů\, aktuální legislativní rámec Evropské unie v oblasti energetiky a elektrifikaci dopravy. Významná část programu bude tradičně věnována problematice ukládání elektrické energie\, zejména bateriovým systémům\, palivovým článkům a dalším alternativním energetickým technologiím. \nPartneři konference NZEE: Škoda Auto\, Česká fotovoltaická asociace (ČFA)\, Pragolab\, Conrad\, Helago. \nRegistrace\, program konference a další důležité informace www.NZEE.cz
URL:https://tzbportal.sk/akcia/nekonvencni-zdroje-elektricke-energie-2026/
LOCATION:Wellness hotelu Horal\, Velké Karlovice\, Czech Republic
ATTACH;FMTTYPE=image/jpeg:https://tzbportal.sk/wp-content/uploads/2026/03/nzee-scaled.jpg
END:VEVENT
END:VCALENDAR